BEGIN:VCALENDAR
VERSION:2.0
PRODID:-//Grupo Molecular Baja California
CALSCALE:GREGORIAN
METHOD:PUBLISH
X-WR-CALNAME:Grupo Molecular Baja California
X-ORIGINAL-URL:https://www.grupomolecular.com/event/lxvi-congreso-nacional-de-fisica-morelia-2023/
X-WR-CALDESC:LXVI Congreso Nacional de Física Morelia 2023
BEGIN:VEVENT
DTSTART:20231008T083000
DTEND:20231013T000000
SUMMARY:LXVI Congreso Nacional de Física Morelia 2023
DESCRIPTION:
LOCATION:Centro de convenciones y exposiciones, Morelia Michoacán, México
END:VEVENT
END:VCALENDAR
